BEGIN:VCALENDAR
VERSION:2.0
PRODID:-//mushingmaniacs
BEGIN:VEVENT
UID:1978f864-c417-4134-a7d8-b04a4f346f03@mushingmaniacs
SUMMARY:1. Jablonecký tahoun 2026 - Canicross Trail Jablonec
LOCATION:50.71608\, 15.156086
GEO:50.71608;15.156086
DESCRIPTION:Jablonec nad Nisou\, Sportovní areál Srnčí důl\nFilip
  Řehoř\n\nhttps://mushingmaniacs.com/1978f864-c417-4134-a7d8-b04a4f346f0
 3
X-MICROSOFT-CDO-ALLDAYEVENT:TRUE
DTSTART;VALUE=DATE:20260516
END:VEVENT
END:VCALENDAR
