BEGIN:VCALENDAR
VERSION:2.0
PRODID:-//mushingmaniacs
BEGIN:VEVENT
UID:559bd3f1-9965-45cd-a2a6-c58ad9929b8e@mushingmaniacs
SUMMARY:CaniKosíř 2026
LOCATION:49.576096\, 17.073076
GEO:49.576096;17.073076
DESCRIPTION:Drahanovice\, fotbalový stadion\nCanicross Olomouc - MC\, z.
  s.\n\nhttps://mushingmaniacs.com/559bd3f1-9965-45cd-a2a6-c58ad9929b8e
X-MICROSOFT-CDO-ALLDAYEVENT:TRUE
DTSTART;VALUE=DATE:20261003
END:VEVENT
END:VCALENDAR
