BEGIN:VCALENDAR
VERSION:2.0
PRODID:-//mushingmaniacs
BEGIN:VEVENT
UID:75adbc08-c593-4018-a42b-7c5658312c14@mushingmaniacs
SUMMARY:DogKutnáTrekk - 1. ročník
LOCATION:49.933586\, 15.25826
GEO:49.933586;15.25826
DESCRIPTION:Kutná Hora\, V Hutích 89/5\nAndrea Ája
  Ladrová\n\nhttps://mushingmaniacs.com/75adbc08-c593-4018-a42b-7c5658312c
 14
X-MICROSOFT-CDO-ALLDAYEVENT:TRUE
DTSTART;VALUE=DATE:20260426
END:VEVENT
END:VCALENDAR
