BEGIN:VCALENDAR
VERSION:2.0
PRODID:-//mushingmaniacs
BEGIN:VEVENT
UID:7d51ce05-6239-4765-89d5-d9155078f6c0@mushingmaniacs
SUMMARY:CaniKačinaCross 2026
LOCATION:49.98192\, 15.346812
GEO:49.98192;15.346812
DESCRIPTION:Kutná Hora\, Zámek Kačina\nAndrea Ája
  Ladrová\n\nhttps://mushingmaniacs.com/7d51ce05-6239-4765-89d5-d9155078f6
 c0
X-MICROSOFT-CDO-ALLDAYEVENT:TRUE
DTSTART;VALUE=DATE:20261011
END:VEVENT
END:VCALENDAR
