BEGIN:VCALENDAR
VERSION:2.0
PRODID:-//mushingmaniacs
BEGIN:VEVENT
UID:7e61f02b-7858-47ee-888e-a1993ba67a1b@mushingmaniacs
SUMMARY:Louka 2026 - Ježdění na Valše
LOCATION:0\, 0
GEO:0;0
DESCRIPTION:Louka\, Obecní úřad v Louce\nMusher klub Tlapky v
  tahu\n\nhttps://mushingmaniacs.com/7e61f02b-7858-47ee-888e-a1993ba67a1b
X-MICROSOFT-CDO-ALLDAYEVENT:TRUE
DTSTART;VALUE=DATE:20260926
DTEND;VALUE=DATE:20260928
END:VEVENT
END:VCALENDAR
