BEGIN:VCALENDAR
VERSION:2.0
PRODID:-//mushingmaniacs
BEGIN:VEVENT
UID:afa37591-befc-4833-9e36-3631be6122f4@mushingmaniacs
SUMMARY:Stěbořická 8ička
LOCATION:49.94021\, 17.81445
GEO:49.94021;17.81445
DESCRIPTION:Stěbořice\, Stěbořický Háj\nStěbořická
  8ička\n\nhttps://mushingmaniacs.com/afa37591-befc-4833-9e36-3631be6122f4
X-MICROSOFT-CDO-ALLDAYEVENT:TRUE
DTSTART;VALUE=DATE:20260516
END:VEVENT
END:VCALENDAR
