BEGIN:VCALENDAR
VERSION:2.0
PRODID:-//mushingmaniacs
BEGIN:VEVENT
UID:b07723e6-0172-4f21-a22c-9fb3ef64d4e1@mushingmaniacs
SUMMARY:Závod se psy Panda Plus – CC\, SC1\, BKJ + speciálka BKJ malí
  psi a speciálka pro běžce 50+ a 60+
LOCATION:50.031128\, 14.770441
GEO:50.031128;14.770441
DESCRIPTION:Hradešín\, poblíž
  Masojedy\nPintadita\n\nhttps://mushingmaniacs.com/b07723e6-0172-4f21-a22c
 -9fb3ef64d4e1
X-MICROSOFT-CDO-ALLDAYEVENT:TRUE
DTSTART;VALUE=DATE:20261004
END:VEVENT
END:VCALENDAR
