BEGIN:VCALENDAR
VERSION:2.0
PRODID:-//mushingmaniacs
BEGIN:VEVENT
UID:ce9fdbee-1176-40f6-9b6d-e45f6cb2b3dd@mushingmaniacs
SUMMARY:Rudenský CROSS
LOCATION:50.031788\, 17.388533
GEO:50.031788;17.388533
DESCRIPTION:Rudná pod Pradědem\, Jezdecký Klub Amír\nJezdecký klub
  Amír\n\nhttps://mushingmaniacs.com/ce9fdbee-1176-40f6-9b6d-e45f6cb2b3dd
X-MICROSOFT-CDO-ALLDAYEVENT:TRUE
DTSTART;VALUE=DATE:20260830
END:VEVENT
END:VCALENDAR
